BEGIN:VCALENDAR
VERSION:2.0
PRODID:-//Diana Hand - ECPv6.15.18//NONSGML v1.0//EN
CALSCALE:GREGORIAN
METHOD:PUBLISH
X-ORIGINAL-URL:https://dianahand.com
X-WR-CALDESC:Events for Diana Hand
REFRESH-INTERVAL;VALUE=DURATION:PT1H
X-Robots-Tag:noindex
X-PUBLISHED-TTL:PT1H
BEGIN:VTIMEZONE
TZID:Europe/London
BEGIN:DAYLIGHT
TZOFFSETFROM:+0000
TZOFFSETTO:+0100
TZNAME:BST
DTSTART:20230326T010000
END:DAYLIGHT
BEGIN:STANDARD
TZOFFSETFROM:+0100
TZOFFSETTO:+0000
TZNAME:GMT
DTSTART:20231029T010000
END:STANDARD
BEGIN:DAYLIGHT
TZOFFSETFROM:+0000
TZOFFSETTO:+0100
TZNAME:BST
DTSTART:20240331T010000
END:DAYLIGHT
BEGIN:STANDARD
TZOFFSETFROM:+0100
TZOFFSETTO:+0000
TZNAME:GMT
DTSTART:20241027T010000
END:STANDARD
BEGIN:DAYLIGHT
TZOFFSETFROM:+0000
TZOFFSETTO:+0100
TZNAME:BST
DTSTART:20250330T010000
END:DAYLIGHT
BEGIN:STANDARD
TZOFFSETFROM:+0100
TZOFFSETTO:+0000
TZNAME:GMT
DTSTART:20251026T010000
END:STANDARD
END:VTIMEZONE
BEGIN:VEVENT
DTSTART;TZID=Europe/London:20240323T100000
DTEND;TZID=Europe/London:20240323T160000
DTSTAMP:20260424T002333
CREATED:20240203T170156Z
LAST-MODIFIED:20240203T173747Z
UID:567111-1711188000-1711209600@dianahand.com
SUMMARY:"Drawing the Horse's Head"  Gargunnock    23rd March 2024
DESCRIPTION:  \n  \nThis new class will focus on drawing the horse’s head.  I have studied the anatomy of the head in depth\, and would like to explore this with a group of horse lovers and artists. \nWe will begin with a warm up using charcoal and/ink\, and then concentrate on exploring the proportions\, the underlying structure of the head\, the features and the muscles.  All these aspects create the form and the surface appearance.  You may want to use your love of horses to make creative drawings inspired by this study or you may want to learn more about making figurative drawing.  Either is fine.  You are welcome to bring your own favourite images\, or I will have a collection of books for you to use. \nIf you are just starting in drawing horses\, this will also be of interest to you\, and I might try to include some more general information as well.   The workshop is held in the community centre in Gargunnock\, an attractive village a few miles west of Stirling.  Facilities are excellent\, with a well lit studio room and a private kitchen for our use. \nCHILDREN  UNDER 12 HALF PRICE WHEN ACCOMPANIED BY AN ADULT  – contact me at info@dianahand.com/07403414312 for details \nWe will work from 10 am to 4 pm\, with a break for lunch. All materials are provided. \n 
URL:https://dianahand.com/event/the-art-of-drawing-horses-at-gargunnock-21st-october-202-2/
LOCATION:Gargunnock Community Centre\, Leckie Road\, Gargunnock\, Stirlingshire\, FK8 3BJ\, United Kingdom
CATEGORIES:Teaching workshop
ATTACH;FMTTYPE=image/jpeg:https://dianahand.com/wp-content/uploads/2023/12/wp-drawing-3.jpg
ORGANIZER;CN="Diana Hand":MAILTO:info@dianahand.com
END:VEVENT
END:VCALENDAR