BEGIN:VCALENDAR
VERSION:2.0
PRODID:-//Diana Hand - ECPv6.15.18//NONSGML v1.0//EN
CALSCALE:GREGORIAN
METHOD:PUBLISH
X-WR-CALNAME:Diana Hand
X-ORIGINAL-URL:https://dianahand.com
X-WR-CALDESC:Events for Diana Hand
REFRESH-INTERVAL;VALUE=DURATION:PT1H
X-Robots-Tag:noindex
X-PUBLISHED-TTL:PT1H
BEGIN:VTIMEZONE
TZID:Europe/London
BEGIN:DAYLIGHT
TZOFFSETFROM:+0000
TZOFFSETTO:+0100
TZNAME:BST
DTSTART:20230326T010000
END:DAYLIGHT
BEGIN:STANDARD
TZOFFSETFROM:+0100
TZOFFSETTO:+0000
TZNAME:GMT
DTSTART:20231029T010000
END:STANDARD
BEGIN:DAYLIGHT
TZOFFSETFROM:+0000
TZOFFSETTO:+0100
TZNAME:BST
DTSTART:20240331T010000
END:DAYLIGHT
BEGIN:STANDARD
TZOFFSETFROM:+0100
TZOFFSETTO:+0000
TZNAME:GMT
DTSTART:20241027T010000
END:STANDARD
BEGIN:DAYLIGHT
TZOFFSETFROM:+0000
TZOFFSETTO:+0100
TZNAME:BST
DTSTART:20250330T010000
END:DAYLIGHT
BEGIN:STANDARD
TZOFFSETFROM:+0100
TZOFFSETTO:+0000
TZNAME:GMT
DTSTART:20251026T010000
END:STANDARD
END:VTIMEZONE
BEGIN:VEVENT
DTSTART;TZID=Europe/London:20241019T100000
DTEND;TZID=Europe/London:20241019T160000
DTSTAMP:20260423T115939
CREATED:20230318T195002Z
LAST-MODIFIED:20240203T174013Z
UID:565748-1729332000-1729353600@dianahand.com
SUMMARY:"The Art of Drawing Horses" at Gargunnock      19th October\, 2024
DESCRIPTION:  \n  \nA day of exploration for horse lovers and artists alike as we experiment with charcoal and ink to create expressive drawings based on your own ideas and images. \nAll are welcome.  Gargunnock Community Centre is the perfect space with lots of light and room – and easy parking!
URL:https://dianahand.com/event/the-art-of-drawing-horses-at-gargunnock-21st-october-202/
LOCATION:Gargunnock Community Centre\, Leckie Road\, Gargunnock\, Stirlingshire\, FK8 3BJ\, United Kingdom
CATEGORIES:Teaching workshop
ATTACH;FMTTYPE=image/jpeg:https://dianahand.com/wp-content/uploads/2022/06/wp-BIG-DRAWING-3.jpg
ORGANIZER;CN="Diana Hand":MAILTO:info@dianahand.com
END:VEVENT
END:VCALENDAR