BEGIN:VCALENDAR
VERSION:2.0
PRODID:-//Diana Hand - ECPv6.15.18//NONSGML v1.0//EN
CALSCALE:GREGORIAN
METHOD:PUBLISH
X-WR-CALNAME:Diana Hand
X-ORIGINAL-URL:https://dianahand.com
X-WR-CALDESC:Events for Diana Hand
REFRESH-INTERVAL;VALUE=DURATION:PT1H
X-Robots-Tag:noindex
X-PUBLISHED-TTL:PT1H
BEGIN:VTIMEZONE
TZID:Europe/London
BEGIN:DAYLIGHT
TZOFFSETFROM:+0000
TZOFFSETTO:+0100
TZNAME:BST
DTSTART:20210328T010000
END:DAYLIGHT
BEGIN:STANDARD
TZOFFSETFROM:+0100
TZOFFSETTO:+0000
TZNAME:GMT
DTSTART:20211031T010000
END:STANDARD
BEGIN:DAYLIGHT
TZOFFSETFROM:+0000
TZOFFSETTO:+0100
TZNAME:BST
DTSTART:20220327T010000
END:DAYLIGHT
BEGIN:STANDARD
TZOFFSETFROM:+0100
TZOFFSETTO:+0000
TZNAME:GMT
DTSTART:20221030T010000
END:STANDARD
BEGIN:DAYLIGHT
TZOFFSETFROM:+0000
TZOFFSETTO:+0100
TZNAME:BST
DTSTART:20230326T010000
END:DAYLIGHT
BEGIN:STANDARD
TZOFFSETFROM:+0100
TZOFFSETTO:+0000
TZNAME:GMT
DTSTART:20231029T010000
END:STANDARD
END:VTIMEZONE
BEGIN:VEVENT
DTSTART;TZID=Europe/London:20220316T080000
DTEND;TZID=Europe/London:20220316T170000
DTSTAMP:20260425T230648
CREATED:20220316T193234Z
LAST-MODIFIED:20220316T200626Z
UID:564705-1647417600-1647450000@dianahand.com
SUMMARY:"The Art of Drawing Horses Workshop"  Belwade Farm\, Aboyne   21st May\, 2022
DESCRIPTION:I look forward to resuming my regular drawing classes this year. I am delighted that we shall be able to run a workshop at Belwade Farm\, Aberdeenshire. This is a World Horse Welfare Centre\, and a fascinating and worth-while place to visit.  With luck we will have live models to practise our drawing skills! In the workshop students will begin by free mark-making with charcoal\, and then continue by using imagination or favourite personal imagery to develop expressive drawings. Many people in Diana’s classes have experienced a revelation as they realise perhaps for the first time ever that they really are able to draw and in the process to express their love of horses. \nWe will work from 10 am to 4 pm\, with a break for lunch. All materials are provided. \nTO FIND OUT MORE AND BOOK CLICK HERE
URL:https://dianahand.com/event/drawing-horses-workshop-belwade-farm-aboyne-21st-may-2022/
LOCATION:Stirlingshire
CATEGORIES:Teaching workshop
ATTACH;FMTTYPE=image/jpeg:https://dianahand.com/wp-content/uploads/2021/10/wp-9.jpg
END:VEVENT
BEGIN:VEVENT
DTSTART;TZID=Europe/London:20220316T080000
DTEND;TZID=Europe/London:20220316T170000
DTSTAMP:20260425T230648
CREATED:20220316T195746Z
LAST-MODIFIED:20220318T183046Z
UID:564718-1647417600-1647450000@dianahand.com
SUMMARY:"The Art of Drawing Horses"  Gargunnock\, Stirling   22nd October\, 2022
DESCRIPTION:I look forward to resuming my regular drawing classes this year\, and in October will be teaching a day workshop at Gargunnock Community Centre\, in the attractive village of Gargunnock\, just outside Stirling. In the workshop students will begin by free mark-making with charcoal\, and then continue by using imagination or favourite personal imagery to develop expressive drawings. Many people in Diana’s classes have experienced a revelation as they realise perhaps for the first time ever that they really are able to draw and in the process to express their love of horses. \nWe will work from 10 am to 4 pm\, with a break for lunch. All materials are provided. \nTO FIND OUT MORE AND BOOK  CLICK HERE
URL:https://dianahand.com/event/the-art-of-drawing-horses-gargunnock-stirling-22nd-october-2022/
LOCATION:Stirlingshire
CATEGORIES:Teaching workshop
END:VEVENT
END:VCALENDAR