BEGIN:VCALENDAR
VERSION:2.0
PRODID:-//Diana Hand - ECPv6.15.18//NONSGML v1.0//EN
CALSCALE:GREGORIAN
METHOD:PUBLISH
X-WR-CALNAME:Diana Hand
X-ORIGINAL-URL:https://dianahand.com
X-WR-CALDESC:Events for Diana Hand
REFRESH-INTERVAL;VALUE=DURATION:PT1H
X-Robots-Tag:noindex
X-PUBLISHED-TTL:PT1H
BEGIN:VTIMEZONE
TZID:Europe/London
BEGIN:DAYLIGHT
TZOFFSETFROM:+0000
TZOFFSETTO:+0100
TZNAME:BST
DTSTART:20140330T010000
END:DAYLIGHT
BEGIN:STANDARD
TZOFFSETFROM:+0100
TZOFFSETTO:+0000
TZNAME:GMT
DTSTART:20141026T010000
END:STANDARD
BEGIN:DAYLIGHT
TZOFFSETFROM:+0000
TZOFFSETTO:+0100
TZNAME:BST
DTSTART:20150329T010000
END:DAYLIGHT
BEGIN:STANDARD
TZOFFSETFROM:+0100
TZOFFSETTO:+0000
TZNAME:GMT
DTSTART:20151025T010000
END:STANDARD
BEGIN:DAYLIGHT
TZOFFSETFROM:+0000
TZOFFSETTO:+0100
TZNAME:BST
DTSTART:20160327T010000
END:DAYLIGHT
BEGIN:STANDARD
TZOFFSETFROM:+0100
TZOFFSETTO:+0000
TZNAME:GMT
DTSTART:20161030T010000
END:STANDARD
BEGIN:DAYLIGHT
TZOFFSETFROM:+0000
TZOFFSETTO:+0100
TZNAME:BST
DTSTART:20170326T010000
END:DAYLIGHT
BEGIN:STANDARD
TZOFFSETFROM:+0100
TZOFFSETTO:+0000
TZNAME:GMT
DTSTART:20171029T010000
END:STANDARD
BEGIN:DAYLIGHT
TZOFFSETFROM:+0000
TZOFFSETTO:+0100
TZNAME:BST
DTSTART:20180325T010000
END:DAYLIGHT
BEGIN:STANDARD
TZOFFSETFROM:+0100
TZOFFSETTO:+0000
TZNAME:GMT
DTSTART:20181028T010000
END:STANDARD
END:VTIMEZONE
BEGIN:VEVENT
DTSTART;VALUE=DATE:20170527
DTEND;VALUE=DATE:20170528
DTSTAMP:20260420T090140
CREATED:20170423T143532Z
LAST-MODIFIED:20170423T143532Z
UID:30417-1495843200-1495929599@dianahand.com
SUMMARY:Drymen Show\, Strathendrick
DESCRIPTION:Drymen Show is a great event featuring beautiful livestock and horses from the heart of Scotland.  I am looking forward to my day with a trade stand where I can show my equestrian drawings and products. \n 
URL:https://dianahand.com/event/drymen-show-strathendrick/
ATTACH;FMTTYPE=image/jpeg:https://dianahand.com/wp-content/uploads/2017/04/Drymen-show-2.jpg
END:VEVENT
BEGIN:VEVENT
DTSTART;VALUE=DATE:20170402
DTEND;VALUE=DATE:20170405
DTSTAMP:20260420T090140
CREATED:20170129T202603Z
LAST-MODIFIED:20170129T203324Z
UID:15755-1491091200-1491350399@dianahand.com
SUMMARY:British Craft Trade Fair  Harrogate 2017
DESCRIPTION:Black Frisian \n  \n  \nDiana Hand will be at this fair showing original work and prints\, as well as a selection of smaller items such as equestrian-themed silk scarves and stationery. \n 
URL:https://dianahand.com/event/british-craft-trade-fair-harrogate-2017/
LOCATION:The Great Yorkshire Showground\, Harrogate\, Yorkshire\, HG2 8QZ\, United Kingdom
ATTACH;FMTTYPE=image/jpeg:https://dianahand.com/wp-content/uploads/2016/10/Frisian.jpg
ORGANIZER;CN="bctf.co.uk":MAILTO: info@bctf.co.uk
END:VEVENT
BEGIN:VEVENT
DTSTART;TZID=Europe/London:20161124T180000
DTEND;TZID=Europe/London:20161124T210000
DTSTAMP:20260420T090140
CREATED:20160912T174209Z
LAST-MODIFIED:20160912T174310Z
UID:13885-1480010400-1480021200@dianahand.com
SUMMARY:Winter Exhibition\, Dunblane Museum Gallery
DESCRIPTION:  \nDunblane Museum Gallery are hosting their second Winter Exhibition for local artists who have exhibited in the Museum during 2016.  Each artist has been asked to submit 5-6 small pieces of work. \nThis event will be launched on the evening of 24th November\, and will also be open each Saturday morning from then up until Christmas. \n 
URL:https://dianahand.com/event/winter-exhibition-dunblane-museum-gallery/
LOCATION:Dunblane Museum\, The Cross\, Dunblane\, FK15 0AQ\, United Kingdom
END:VEVENT
BEGIN:VEVENT
DTSTART;TZID=Europe/London:20161117T100000
DTEND;TZID=Europe/London:20161120T170000
DTSTAMP:20260420T090140
CREATED:20161021T100839Z
LAST-MODIFIED:20161105T194043Z
UID:14274-1479376800-1479661200@dianahand.com
SUMMARY:Country Living Christmas Fair\, Glasgow
DESCRIPTION:
URL:https://dianahand.com/event/country-living-christmas-fair-glasgow-2/
LOCATION:Scottish Exhibition Centre\, GLASGOW
END:VEVENT
BEGIN:VEVENT
DTSTART;TZID=Europe/London:20161008T110000
DTEND;TZID=Europe/London:20161013T180000
DTSTAMP:20260420T090140
CREATED:20160112T193822Z
LAST-MODIFIED:20161009T192621Z
UID:13447-1475924400-1476381600@dianahand.com
SUMMARY:The Horse in the Heart
DESCRIPTION:  \n  \nDiana Hand has created a series of large and medium scale equestrian drawings for this exhibition\, using different media to explore new ideas and to develop her work beyond either a conventional representation or a rapid sketch.  She referred to the writings of Gottfried Bammes to learn more about the anatomical structure of the horse and\, with that structure\, to experiment freely with media such as charcoal and watercolour washes.  She discovered a surreal and dream-like world of imaginary horses from the past.  This relates to the strong unconscious appeal that the horse continues to have for humans. \nPrivate view:  Friday 7th October  6-8 pm           Late night opening:  Wednesday 12th October till 8 pm.
URL:https://dianahand.com/event/whitespace-edinburgh/
LOCATION:Whitespace\, 76 East Crosscauseway\, Edinburgh\, EH8 8HQ\, United Kingdom
END:VEVENT
BEGIN:VEVENT
DTSTART;TZID=Europe/London:20160611T100000
DTEND;TZID=Europe/London:20160619T170000
DTSTAMP:20260420T090140
CREATED:20160202T182431Z
LAST-MODIFIED:20160529T170828Z
UID:13500-1465639200-1466355600@dianahand.com
SUMMARY:Forth Valley Art Beat  - Diana Hand and Katherine Cowtan
DESCRIPTION:Diana Hand and Katherine Cowtan will be showing new work in the Courtyard Cafe Gallery\, Fintry  as part of the Forth Vallery Art Beat from 11th June 2016 to 19th June 2016.  The Gallery will be open each day from 10 am to 5 pm. (12 pm to 5 pm on Monday 13th and Thursday 16th).  Diana will be exhibiting drawings\,  and Katherine will be showing paintings. \n  \n  \n  \n  \n  \n  \n \n  \n 
URL:https://dianahand.com/event/forth-valley-art-beat-diana-hand-and-katherine-cowtan/
LOCATION:Courtyard Cafe\, Knockraich Farm \, Fintry\, Stirlingshire\, G63 0LN\, United Kingdom
END:VEVENT
BEGIN:VEVENT
DTSTART;TZID=Europe/London:20160402T103000
DTEND;TZID=Europe/London:20160429T163000
DTSTAMP:20260420T090140
CREATED:20160112T180743Z
LAST-MODIFIED:20160313T173859Z
UID:13441-1459593000-1461947400@dianahand.com
SUMMARY:INSIDE OUT UPSIDE DOWN
DESCRIPTION:  \n  \n  \n  \n  \n  \n  \n  \n  \n  \nINSIDE OUT AND UPSIDE DOWN  “The anatomy of a cardboard box” \nIn an exhibition of new drawings Stirling-based artist\, Diana Hand\, explores the shapes\, shadows and corners suggested by everyday packaging material\, using the creativity theory of Donald Schon in “The Reflective Practitioner” to develop her original idea. \nOpening event\, to which all are welcome\, is from 6-8 pm on Friday\, 1st April\nArtist’s talk\, for all who are interested or simply curious\, will be from 2.30 to 4 pm on Saturday\, 16th April \nThis event is not open on Sundays
URL:https://dianahand.com/event/inside-out-upside-down/
LOCATION:Dunblane Museum\, The Cross\, Dunblane\, FK15 0AQ\, United Kingdom
END:VEVENT
BEGIN:VEVENT
DTSTART;TZID=Europe/London:20151205T103000
DTEND;TZID=Europe/London:20151206T170000
DTSTAMP:20260420T090140
CREATED:20150904T185422Z
LAST-MODIFIED:20150904T185422Z
UID:13375-1449311400-1449421200@dianahand.com
SUMMARY:CHRISTMAS CRAFT FAIR\, ASSEMBLY ROOMS\, EDINBURGH
DESCRIPTION:Detail of a velvet scarf by Diana Hand \n  \nThe Christmas craft fair will be showing the work of 120 makers and artists in the beautiful surroundings of the Music Hall and the Ball Room in the Assembly Rooms\, George Street\, Edinburgh.  This is a chance to personally meet creative people and buy their work for unique and special Christmas gifts. \nFor more than two centuries Assembly Rooms has been at the very heart of the capital and touched the lives of almost all of its residents. It has hosted both monarchy and celebrity royalty\, played its part in two world wars and celebrated artistic excellence.  Timeless elegance and beauty combine with everything you would expect from the most modern of venues: enormous crystal chandeliers\, gleaming gold leaf and giant gilt mirrors reflect the history and tradition of the building\, while the very latest technology has been discreetly incorporated following an extensive restoration.
URL:https://dianahand.com/event/christmas-craft-fair-assembly-rooms-edinburgh/
LOCATION:Assembly rooms\, 54 George St \, Edinburgh \, EH2 2LR\, United Kingdom
END:VEVENT
BEGIN:VEVENT
DTSTART;TZID=Europe/London:20151120T110000
DTEND;TZID=Europe/London:20160217T160000
DTSTAMP:20260420T090140
CREATED:20150923T113533Z
LAST-MODIFIED:20151116T201510Z
UID:13379-1448017200-1455724800@dianahand.com
SUMMARY:RICCIO GALLERY WINTER EXHIBITION
DESCRIPTION:  \nContemporary Tang Horse \nHimself \nPure Horse \n  \n  \n  \n  \n  \n  \n  \nNew work by Diana Hand will be included in the Winter mixed exhibition of  at the Riccio Gallery\, Dalkeith\, near Edinburgh.
URL:https://dianahand.com/event/riccio-gallery-winter-exhibition/
LOCATION:Riccio Gallery\, 17 South Street\, Dalkeith\, EH22 1AH\, United Kingdom
END:VEVENT
BEGIN:VEVENT
DTSTART;TZID=Europe/London:20151119T100000
DTEND;TZID=Europe/London:20151122T170000
DTSTAMP:20260420T090140
CREATED:20150904T183120Z
LAST-MODIFIED:20150904T183749Z
UID:13372-1447927200-1448211600@dianahand.com
SUMMARY:COUNTRY LIVING CHRISTMAS FAIR\, GLASGOW
DESCRIPTION:  \nThis year’s Fair will bring the pages of the magazine to life at Glasgow’s SECC from 19 – 22 November. Come along to meet makers\, designers\, artisans and growers and discover unique gifts to delight your loved ones\, as well as inspired ideas and decorations to bring that magical Christmas sparkle to your home. \nDiana Hand will be showing equestrian drawing and prints\, as well as a range of hand-painted silk ties and scarves.  She will also have signed copies of her new book\, “Draw Horses in 15 Minutes” available.
URL:https://dianahand.com/event/country-living-christmas-fair-glasgow/
LOCATION:SECC\, Glasgow\, G3 8YW
END:VEVENT
BEGIN:VEVENT
DTSTART;TZID=Europe/London:20151010T110000
DTEND;TZID=Europe/London:20151023T170000
DTSTAMP:20260420T090140
CREATED:20150904T182021Z
LAST-MODIFIED:20150928T122712Z
UID:13366-1444474800-1445619600@dianahand.com
SUMMARY:BERESFORD WHITNEY EXHIBITION
DESCRIPTION:Kind Eye \n  \n  \nBeresford Whitney will be showing works of art by artists including Diana Hand at the Pendle Heritage Centre\, Barrowford\, Lancashire. \n 
URL:https://dianahand.com/event/beresford-whitney-exhibition/
LOCATION:Pendle Heritage Centre\, Colne Road\, Barrowford\, BB9 6JQ\, United Kingdom
END:VEVENT
BEGIN:VEVENT
DTSTART;TZID=Europe/London:20150905T100000
DTEND;TZID=Europe/London:20151028T170000
DTSTAMP:20260420T090140
CREATED:20150814T204008Z
LAST-MODIFIED:20150822T205300Z
UID:13351-1441447200-1446051600@dianahand.com
SUMMARY:IN PRAISE OF THE HORSE
DESCRIPTION:An exhibition of equestrian drawings and fine art prints by Diana Hand at the Real Wood Furniture Company. \nThe Real Wood Furniture Company craft individual pieces of such exquisite beauty that the pleasure they bring is immeasurable. Immerse yourself in this extraordinary and diverse offering. Marvel at the traditional to the contemporary\, wonderful bespoke furniture\, superb soft furnishings\, our Norfolk Collection and a wide range of unusual accessories sourced from around the world. Each of the fourteen showrooms offers new horizons and ideas for your home.
URL:https://dianahand.com/event/in-praise-of-the-horse/
LOCATION:The Real Wood Furniture Company\, London House\, Oxford Street\, Woodstock\, OX201TS\, United Kingdom
END:VEVENT
BEGIN:VEVENT
DTSTART;TZID=Europe/London:20150808T110000
DTEND;TZID=Europe/London:20150830T180000
DTSTAMP:20260420T090140
CREATED:20150612T145027Z
LAST-MODIFIED:20150612T145027Z
UID:13240-1439031600-1440957600@dianahand.com
SUMMARY:WEST END ART\, CRAFT AND DESIGN FAIR
DESCRIPTION:Location & times \n\n\nEdinburgh’s West End Fair is Scotland’s largest contemporary art\, craft and design fair.\nSituated in the heart of the historic festival city of Edinburgh and set against the stunning backdrop of Edinburgh Castle\, the West End Fair brings together some of the finest contemporary arts\, crafts and design-work from across the UK in one glorious open air venue. \nWith over 100 makers\, the fair is full of unique stalls selling products you won’t find on any high street. Enjoy a few hours browsing: you’ll find stunning jewellery\, furniture\, tempting fashion\, accessories and homewares beautifully crafted in glass\, wood\, metal\, textiles as well as art\, photography and much more. \nWe pride ourselves in carefully selecting exhibitors to ensure standards are kept high resulting in a wonderful mix of high quality and unique products on display. Everything you see at the West End Fair is the individual and unique work of the exhibitors you’ll meet.
URL:https://dianahand.com/event/west-end-art-craft-and-design-fair/
LOCATION:Lothian Road\, Edinburgh\, EH2 4BJ\, United Kingdom
END:VEVENT
BEGIN:VEVENT
DTSTART;TZID=Europe/London:20150716T100000
DTEND;TZID=Europe/London:20150719T173000
DTSTAMP:20260420T090140
CREATED:20150612T144823Z
LAST-MODIFIED:20150612T144823Z
UID:13237-1437040800-1437327000@dianahand.com
SUMMARY:ART IN ACTION
DESCRIPTION:Art in Action 2015\nWhat is Art in Action?\nInspired by the simple principle that people are fascinated when artists and craftsmen openly demonstrate their skills and discuss their work\, Art in Action was born. \n Approximately 25\,000 visitors come over four days to learn\, buy and enjoy\, exhibitions\, classes and performances of 400 demonstrating artists\, teachers\, musicians and performers.
URL:https://dianahand.com/event/art-in-action/
LOCATION:Waterperry House\,\, Wheatley Oxfordshire\, United Kingdom
END:VEVENT
BEGIN:VEVENT
DTSTART;TZID=Europe/London:20150618T090000
DTEND;TZID=Europe/London:20150621T190000
DTSTAMP:20260420T090140
CREATED:20150612T144613Z
LAST-MODIFIED:20150612T144613Z
UID:13235-1434618000-1434913200@dianahand.com
SUMMARY:ROYAL HIGHLAND SHOW
DESCRIPTION:The Royal Highland Show\nWe’ve been trying to capture what people love most about the Show and haven’t managed it! \nThat’s because no one single thing makes it special. What does is that it offers an eclectic mix of the expected and unexpected that keeps the thousands who flock here each year coming back year after year. \nFor those who think it’s just cows and combine harvesters\, then what can we say? Be prepared for an experience like no other. We guarantee that if you come you’ll be back year after year.
URL:https://dianahand.com/event/royal-highland-show/
LOCATION:Royal Highland Showground\, Ingleston \, Edinburgh \, EH28 8NB
END:VEVENT
BEGIN:VEVENT
DTSTART;TZID=Europe/London:20150612T080000
DTEND;TZID=Europe/London:20150612T170000
DTSTAMP:20260420T090140
CREATED:20150612T145526Z
LAST-MODIFIED:20150612T145526Z
UID:13246-1434096000-1434128400@dianahand.com
SUMMARY:EDINBURGH CHRISTMAS CRAFT FAIR
DESCRIPTION:EDINBURGH CHRISTMAS CRAFT FAIR\n3D/2D’s core activity is organising events that provide makers\, designers\, craftworkers and artists with venues where they can exhibit their work and sell directly to the public. The origins of the organisation go all the way back to the 1980s. The first fairs were held in Edinburgh in the Assembly Rooms. Fairs in Glasgow began soon after\, with other cities and venues added later. Since then 3D/2D has established a strong\, reliable reputation for quality and diversity with both the public and potential exhibitors. \nAll the events that 3D/2D organises\, or participates in\, are based in Scotland. 3D/2D’s exhibitors are drawn from all over Britain\, with the majority living and working in Scotland.
URL:https://dianahand.com/event/edinburgh-christmas-craft-fair/
LOCATION:Assembly rooms\, 54 George St \, Edinburgh \, EH2 2LR\, United Kingdom
END:VEVENT
BEGIN:VEVENT
DTSTART;TZID=Europe/London:20150609T000000
DTEND;TZID=Europe/London:20150614T170000
DTSTAMP:20260420T090140
CREATED:20150612T144432Z
LAST-MODIFIED:20150612T144432Z
UID:13233-1433808000-1434301200@dianahand.com
SUMMARY:FORTH VALLEY OPEN STUDIOS
DESCRIPTION:Over 140 artists take part Forth Valley Open Studios; a nine-day art event across Central Scotland for artists\, designers\, makers\, art clubs and galleries. Artists open their studios and work spaces inviting all members of the community to view their work. Many offer demonstrations and provide the public with an experience\, taking time to engage with the audiences\, explain their ideas and inspiration for their work. \nForth Valley Open Studios began in 2010 and is one of the biggest cultural events in the Forth Valley.
URL:https://dianahand.com/event/forth-valley-open-studios/
LOCATION:Easter Poldar Farm\, Thornhill  \, Stirling\, FK8 3QT\, United Kingdom
END:VEVENT
BEGIN:VEVENT
DTSTART;TZID=Europe/London:20150515T100000
DTEND;TZID=Europe/London:20150628T180000
DTSTAMP:20260420T090140
CREATED:20150612T144233Z
LAST-MODIFIED:20150624T192929Z
UID:13231-1431684000-1435514400@dianahand.com
SUMMARY:FORTH VALLEY OPEN STUDIOS POP UP EXHIBITION
DESCRIPTION:The Pop Up Shows are part of the Forth Valley Open Studios.  140 artists are taking part in Open Studios in 2015\, and 15 artists will be showing their work at the Tolbooth Gallery.  The Tolbooth is a medieval building near to the castle in the old town of Stirling\, and it has been renovated to form an arts centre.  The Tolbooth event runs from 15th May to 28th June\, and is open every day EXCEPT SUNDAY AND MONDAY.  For more information about the Open Studios and the other Pop Up Shows please go to this link.
URL:https://dianahand.com/event/forth-valley-open-studios-pop-up-exhibition/
LOCATION:Tolbooth Gallery and Bistro\, Jail Wynd  \, STIRLING\, FK8 1DE\, United Kingdom
END:VEVENT
END:VCALENDAR